Package: compEpiTools Version: 1.45.0 Command: /Library/Frameworks/R.framework/Resources/bin/R CMD build --keep-empty-dirs --no-resave-data compEpiTools StartedAt: 2025-11-13 16:01:11 -0500 (Thu, 13 Nov 2025) EndedAt: 2025-11-13 16:01:50 -0500 (Thu, 13 Nov 2025) EllapsedTime: 38.5 seconds RetCode: 0 Status: OK PackageFile: compEpiTools_1.45.0.tar.gz PackageFileSize: 2.166 MiB