Package: comapr Version: 1.13.0 Command: /home/biocbuild/bbs-3.22-bioc/R/bin/R CMD INSTALL comapr StartedAt: 2025-10-06 15:46:37 -0400 (Mon, 06 Oct 2025) EndedAt: 2025-10-06 15:47:29 -0400 (Mon, 06 Oct 2025) EllapsedTime: 51.9 seconds RetCode: 0 Status: OK