Package: comapr Version: 1.13.0 Command: /home/biocbuild/bbs-3.22-bioc/R/bin/R CMD build --keep-empty-dirs --no-resave-data --md5 comapr StartedAt: 2025-10-06 16:54:09 -0400 (Mon, 06 Oct 2025) EndedAt: 2025-10-06 16:55:34 -0400 (Mon, 06 Oct 2025) EllapsedTime: 85.1 seconds RetCode: 0 Status: OK PackageFile: comapr_1.13.0.tar.gz PackageFileSize: 1.016 MiB