Package: clustifyr Version: 1.23.0 Command: /home/biocbuild/bbs-3.23-bioc/R/bin/R CMD INSTALL clustifyr StartedAt: 2025-11-07 15:19:06 -0500 (Fri, 07 Nov 2025) EndedAt: 2025-11-07 15:19:39 -0500 (Fri, 07 Nov 2025) EllapsedTime: 32.3 seconds RetCode: 0 Status: OK