Package: clustifyr Version: 1.23.0 Command: /home/biocbuild/bbs-3.23-bioc/R/bin/R CMD build --keep-empty-dirs --no-resave-data clustifyr StartedAt: 2025-11-07 16:50:08 -0500 (Fri, 07 Nov 2025) EndedAt: 2025-11-07 16:51:06 -0500 (Fri, 07 Nov 2025) EllapsedTime: 58.1 seconds RetCode: 0 Status: OK PackageFile: clustifyr_1.23.0.tar.gz PackageFileSize: 3.171 MiB