Package: clusterSeq Version: 1.35.0 Command: /home/biocbuild/bbs-3.23-bioc/R/bin/R CMD INSTALL clusterSeq StartedAt: 2025-11-10 15:21:43 -0500 (Mon, 10 Nov 2025) EndedAt: 2025-11-10 15:21:56 -0500 (Mon, 10 Nov 2025) EllapsedTime: 12.8 seconds RetCode: 0 Status: OK