Package: clusterSeq Version: 1.33.0 Command: /Library/Frameworks/R.framework/Resources/bin/R CMD INSTALL clusterSeq StartedAt: 2025-10-22 15:18:39 -0400 (Wed, 22 Oct 2025) EndedAt: 2025-10-22 15:19:00 -0400 (Wed, 22 Oct 2025) EllapsedTime: 21.8 seconds RetCode: 0 Status: OK