Package: clusterSeq Version: 1.33.0 Command: /Library/Frameworks/R.framework/Resources/bin/R CMD build --keep-empty-dirs --no-resave-data clusterSeq StartedAt: 2025-10-22 16:27:38 -0400 (Wed, 22 Oct 2025) EndedAt: 2025-10-22 16:28:43 -0400 (Wed, 22 Oct 2025) EllapsedTime: 65.0 seconds RetCode: 0 Status: OK PackageFile: clusterSeq_1.33.0.tar.gz PackageFileSize: 1.008 MiB