Package: clusterSeq Version: 1.33.0 Command: /Library/Frameworks/R.framework/Resources/bin/R CMD INSTALL clusterSeq StartedAt: 2025-10-17 15:11:02 -0400 (Fri, 17 Oct 2025) EndedAt: 2025-10-17 15:11:07 -0400 (Fri, 17 Oct 2025) EllapsedTime: 5.9 seconds RetCode: 0 Status: OK