Package: clusterProfiler Version: 4.19.2 Command: /home/biocbuild/bbs-3.23-bioc/R/bin/R CMD INSTALL clusterProfiler StartedAt: 2025-11-25 15:47:35 -0500 (Tue, 25 Nov 2025) EndedAt: 2025-11-25 15:48:00 -0500 (Tue, 25 Nov 2025) EllapsedTime: 25.0 seconds RetCode: 0 Status: OK