Package: clusterProfiler Version: 4.19.2 Command: /home/biocbuild/bbs-3.23-bioc/R/bin/R CMD build --keep-empty-dirs --no-resave-data clusterProfiler StartedAt: 2025-11-26 16:51:50 -0500 (Wed, 26 Nov 2025) EndedAt: 2025-11-26 16:52:19 -0500 (Wed, 26 Nov 2025) EllapsedTime: 29.0 seconds RetCode: 0 Status: OK PackageFile: clusterProfiler_4.19.2.tar.gz PackageFileSize: 614.2 KiB