Package: clusterProfiler Version: 4.19.2 Command: /Library/Frameworks/R.framework/Resources/bin/R CMD INSTALL clusterProfiler StartedAt: 2025-11-20 15:46:07 -0500 (Thu, 20 Nov 2025) EndedAt: 2025-11-20 15:46:44 -0500 (Thu, 20 Nov 2025) EllapsedTime: 36.7 seconds RetCode: 0 Status: OK