Package: clusterProfiler Version: 4.19.1 Command: /Library/Frameworks/R.framework/Resources/bin/R CMD build --keep-empty-dirs --no-resave-data clusterProfiler StartedAt: 2025-11-19 16:32:07 -0500 (Wed, 19 Nov 2025) EndedAt: 2025-11-19 16:32:39 -0500 (Wed, 19 Nov 2025) EllapsedTime: 32.0 seconds RetCode: 0 Status: OK PackageFile: clusterProfiler_4.19.1.tar.gz PackageFileSize: 611.2 KiB