Package: clusterProfiler Version: 4.19.1 Command: rm -rf clusterProfiler.buildbin-libdir && mkdir clusterProfiler.buildbin-libdir && /Users/biocbuild/BBS/utils/build-universal.sh clusterProfiler_4.19.1.tar.gz /Library/Frameworks/R.framework/Resources/bin/R clusterProfiler.buildbin-libdir StartedAt: 2025-11-20 01:26:38 -0500 (Thu, 20 Nov 2025) EndedAt: 2025-11-20 01:27:17 -0500 (Thu, 20 Nov 2025) EllapsedTime: 39.2 seconds RetCode: 0 Status: OK PackageFile: clusterProfiler_4.19.1.tgz PackageFileSize: 1.015 MiB