Package: clusterProfiler Version: 4.19.1 Command: rm -rf clusterProfiler.buildbin-libdir && mkdir clusterProfiler.buildbin-libdir && /Users/biocbuild/BBS/utils/build-universal.sh clusterProfiler_4.19.1.tar.gz /Library/Frameworks/R.framework/Resources/bin/R clusterProfiler.buildbin-libdir StartedAt: 2025-11-13 23:32:11 -0500 (Thu, 13 Nov 2025) EndedAt: 2025-11-13 23:32:23 -0500 (Thu, 13 Nov 2025) EllapsedTime: 12.3 seconds RetCode: 0 Status: OK PackageFile: clusterProfiler_4.19.1.tgz PackageFileSize: 1.02 MiB