Package: clusterExperiment Version: 2.29.0 Command: /home/biocbuild/bbs-3.22-bioc/R/bin/R CMD INSTALL clusterExperiment StartedAt: 2025-10-01 16:07:48 -0400 (Wed, 01 Oct 2025) EndedAt: 2025-10-01 16:09:21 -0400 (Wed, 01 Oct 2025) EllapsedTime: 92.8 seconds RetCode: 0 Status: OK