Package: clustSIGNAL Version: 1.3.0 Command: /home/biocbuild/bbs-3.23-bioc/R/bin/R CMD build --keep-empty-dirs --no-resave-data clustSIGNAL StartedAt: 2025-11-14 16:52:04 -0500 (Fri, 14 Nov 2025) EndedAt: 2025-11-14 16:53:37 -0500 (Fri, 14 Nov 2025) EllapsedTime: 92.1 seconds RetCode: 0 Status: OK PackageFile: clustSIGNAL_1.3.0.tar.gz PackageFileSize: 4.517 MiB