Package: clustSIGNAL Version: 1.1.0 Command: /Library/Frameworks/R.framework/Resources/bin/R CMD INSTALL clustSIGNAL StartedAt: 2025-10-06 15:46:28 -0400 (Mon, 06 Oct 2025) EndedAt: 2025-10-06 15:47:12 -0400 (Mon, 06 Oct 2025) EllapsedTime: 43.8 seconds RetCode: 0 Status: OK