Package: clustSIGNAL Version: 1.1.0 Command: /Library/Frameworks/R.framework/Resources/bin/R CMD build --keep-empty-dirs --no-resave-data clustSIGNAL StartedAt: 2025-10-06 16:28:02 -0400 (Mon, 06 Oct 2025) EndedAt: 2025-10-06 16:29:57 -0400 (Mon, 06 Oct 2025) EllapsedTime: 114.3 seconds RetCode: 0 Status: OK PackageFile: clustSIGNAL_1.1.0.tar.gz PackageFileSize: 4.587 MiB