Package: clustSIGNAL Version: 1.1.0 Command: /Library/Frameworks/R.framework/Resources/bin/R CMD INSTALL clustSIGNAL StartedAt: 2025-09-30 15:30:23 -0400 (Tue, 30 Sep 2025) EndedAt: 2025-09-30 15:30:36 -0400 (Tue, 30 Sep 2025) EllapsedTime: 13.3 seconds RetCode: 0 Status: OK