Package: clustSIGNAL Version: 1.3.0 Maintainer: Pratibha Panwar MaintainerEmail: pratibhapanwar.4 at gmail.com git_url: https://git.bioconductor.org/packages/clustSIGNAL git_branch: devel git_last_commit: 2c2540c git_last_commit_date: 2025-10-29 11:35:51 -0400 (Wed, 29 Oct 2025)