Package: clst Version: 1.57.0 Command: /home/biocbuild/bbs-3.22-bioc/R/bin/R CMD INSTALL clst StartedAt: 2025-10-06 15:05:37 -0400 (Mon, 06 Oct 2025) EndedAt: 2025-10-06 15:06:06 -0400 (Mon, 06 Oct 2025) EllapsedTime: 29.3 seconds RetCode: 0 Status: OK