Package: clst Version: 1.57.0 Command: /home/biocbuild/bbs-3.22-bioc/R/bin/R CMD build --keep-empty-dirs --no-resave-data --md5 clst StartedAt: 2025-10-06 16:49:48 -0400 (Mon, 06 Oct 2025) EndedAt: 2025-10-06 16:50:03 -0400 (Mon, 06 Oct 2025) EllapsedTime: 15.0 seconds RetCode: 0 Status: OK PackageFile: clst_1.57.0.tar.gz PackageFileSize: 1.019 MiB