Package: clipper Version: 1.49.0 Command: /home/biocbuild/bbs-3.22-bioc/R/bin/R CMD INSTALL clipper StartedAt: 2025-10-28 15:44:05 -0400 (Tue, 28 Oct 2025) EndedAt: 2025-10-28 15:44:44 -0400 (Tue, 28 Oct 2025) EllapsedTime: 38.4 seconds RetCode: 0 Status: OK