Package: cleanUpdTSeq Version: 1.49.0 Command: /Library/Frameworks/R.framework/Resources/bin/R CMD build --keep-empty-dirs --no-resave-data cleanUpdTSeq StartedAt: 2025-11-21 15:54:29 -0500 (Fri, 21 Nov 2025) EndedAt: 2025-11-21 15:55:01 -0500 (Fri, 21 Nov 2025) EllapsedTime: 32.4 seconds RetCode: 0 Status: OK PackageFile: cleanUpdTSeq_1.49.0.tar.gz PackageFileSize: 4.008 MiB