Package: chromPlot Version: 1.39.0 Command: /Library/Frameworks/R.framework/Resources/bin/R CMD INSTALL chromPlot StartedAt: 2025-11-24 15:30:55 -0500 (Mon, 24 Nov 2025) EndedAt: 2025-11-24 15:31:01 -0500 (Mon, 24 Nov 2025) EllapsedTime: 6.3 seconds RetCode: 0 Status: OK