Package: chromPlot Version: 1.39.0 Command: /Library/Frameworks/R.framework/Resources/bin/R CMD build --keep-empty-dirs --no-resave-data chromPlot StartedAt: 2025-11-23 15:55:23 -0500 (Sun, 23 Nov 2025) EndedAt: 2025-11-23 15:55:44 -0500 (Sun, 23 Nov 2025) EllapsedTime: 21.2 seconds RetCode: 0 Status: OK PackageFile: chromPlot_1.39.0.tar.gz PackageFileSize: 1.522 MiB