Package: chromPlot Version: 1.39.0 Command: rm -rf chromPlot.buildbin-libdir && mkdir chromPlot.buildbin-libdir && /Users/biocbuild/BBS/utils/build-universal.sh chromPlot_1.39.0.tar.gz /Library/Frameworks/R.framework/Resources/bin/R chromPlot.buildbin-libdir StartedAt: 2025-11-23 23:29:43 -0500 (Sun, 23 Nov 2025) EndedAt: 2025-11-23 23:29:52 -0500 (Sun, 23 Nov 2025) EllapsedTime: 9.2 seconds RetCode: 0 Status: OK PackageFile: chromPlot_1.39.0.tgz PackageFileSize: 1.599 MiB