Package: chromDraw Version: 2.39.0 Command: /home/biocbuild/bbs-3.22-bioc/R/bin/R CMD INSTALL chromDraw StartedAt: 2025-10-10 15:35:32 -0400 (Fri, 10 Oct 2025) EndedAt: 2025-10-10 15:36:14 -0400 (Fri, 10 Oct 2025) EllapsedTime: 42.2 seconds RetCode: 0 Status: OK