Package: chevreulProcess Version: 1.1.2 Command: /home/biocbuild/bbs-3.22-bioc/R/bin/R CMD INSTALL chevreulProcess StartedAt: 2025-10-03 15:53:36 -0400 (Fri, 03 Oct 2025) EndedAt: 2025-10-03 15:54:27 -0400 (Fri, 03 Oct 2025) EllapsedTime: 51.5 seconds RetCode: 0 Status: OK