Package: cfTools Version: 1.9.0 Command: /home/biocbuild/bbs-3.22-bioc/R/bin/R CMD INSTALL cfTools StartedAt: 2025-09-29 15:30:01 -0400 (Mon, 29 Sep 2025) EndedAt: 2025-09-29 15:30:57 -0400 (Mon, 29 Sep 2025) EllapsedTime: 55.5 seconds RetCode: 0 Status: OK