Package: cfTools Version: 1.9.0 Command: /home/biocbuild/bbs-3.22-bioc/R/bin/R CMD build --keep-empty-dirs --no-resave-data --md5 cfTools StartedAt: 2025-09-29 17:01:33 -0400 (Mon, 29 Sep 2025) EndedAt: 2025-09-29 17:02:52 -0400 (Mon, 29 Sep 2025) EllapsedTime: 79.1 seconds RetCode: 0 Status: OK PackageFile: cfTools_1.9.0.tar.gz PackageFileSize: 2.206 MiB