Package: cfDNAPro Version: 1.15.0 Command: /home/biocbuild/bbs-3.22-bioc/R/bin/R CMD build --keep-empty-dirs --no-resave-data --md5 cfDNAPro StartedAt: 2025-10-24 16:55:53 -0400 (Fri, 24 Oct 2025) EndedAt: 2025-10-24 16:56:54 -0400 (Fri, 24 Oct 2025) EllapsedTime: 61.1 seconds RetCode: 0 Status: OK PackageFile: cfDNAPro_1.15.0.tar.gz PackageFileSize: 1.39 MiB