Package: ceRNAnetsim Version: 1.21.1 Command: /home/biocbuild/bbs-3.22-bioc/R/bin/R CMD INSTALL ceRNAnetsim StartedAt: 2025-10-17 15:08:28 -0400 (Fri, 17 Oct 2025) EndedAt: 2025-10-17 15:08:38 -0400 (Fri, 17 Oct 2025) EllapsedTime: 9.6 seconds RetCode: 0 Status: OK