Back to Build/check report for BioC 3.23:   simplified   long
A[B]CDEFGHIJKLMNOPQRSTUVWXYZ

This page was generated on 2025-10-31 08:34 -0400 (Fri, 31 Oct 2025).

HostnameOSArch (*)R versionInstalled pkgs
nebbiolo1Linux (Ubuntu 24.04.3 LTS)x86_64R Under development (unstable) (2025-10-20 r88955) -- "Unsuffered Consequences" 4428
Click on any hostname to see more info about the system (e.g. compilers)      (*) as reported by 'uname -p', except on Windows and Mac OS X

All results for package bluster


To the developers/maintainers of the bluster package:
- Allow up to 24 hours (and sometimes 48 hours) for your latest push to git@git.bioconductor.org:packages/bluster.git to reflect on this report. See Troubleshooting Build Report for more information.
- Use the following Renviron settings to reproduce errors and warnings.
- If 'R CMD check' started to fail recently on the Linux builder(s) over a missing dependency, add the missing dependency to 'Suggests:' in your DESCRIPTION file. See Renviron.bioc for more information.

raw results

Package 232/2321HostnameOS / ArchINSTALLBUILDCHECKBUILD BIN
bluster 1.21.0  (landing page)
Aaron Lun
Snapshot Date: 2025-10-30 13:40 -0400 (Thu, 30 Oct 2025)
git_url: https://git.bioconductor.org/packages/bluster
git_branch: devel
git_last_commit: bd99aa0
git_last_commit_date: 2025-10-29 11:00:44 -0400 (Wed, 29 Oct 2025)
nebbiolo1Linux (Ubuntu 24.04.3 LTS) / x86_64  OK    OK    OK  YES



Results for Bioconductor software packages that depend directly on package bluster

QUICK STATSOS / ArchINSTALLBUILDCHECKBUILD BIN
nebbiolo1Linux (Ubuntu 24.04.3 LTS) / x86_64
0111
0111
0038
Package 1/12HostnameOS / ArchINSTALLBUILDCHECKBUILD BIN
chevreulProcess 1.3.0  (landing page)
Kevin Stachelek
git_last_commit: c6b3ecf
git_last_commit_date: 2025-10-29 11:34:17 -0400
nebbiolo1Linux (Ubuntu 24.04.3 LTS) / x86_64  ERROR    ERROR  skipped
Package 2/12HostnameOS / ArchINSTALLBUILDCHECKBUILD BIN
clustSIGNAL 1.3.0  (landing page)
Pratibha Panwar
git_last_commit: 2c2540c
git_last_commit_date: 2025-10-29 11:35:51 -0400
nebbiolo1Linux (Ubuntu 24.04.3 LTS) / x86_64  OK    OK    OK  NO, package depends on 'SpatialExperiment' which is not available
Package 3/12HostnameOS / ArchINSTALLBUILDCHECKBUILD BIN
concordexR 1.11.0  (landing page)
Kayla Jackson
git_last_commit: 7b24dc8
git_last_commit_date: 2025-10-29 11:22:42 -0400
nebbiolo1Linux (Ubuntu 24.04.3 LTS) / x86_64  OK    OK    WARNINGS  NO, package depends on 'DelayedArray' which is not available
Package 4/12HostnameOS / ArchINSTALLBUILDCHECKBUILD BIN
dandelionR 1.3.0  (landing page)
Kelvin Tuong
git_last_commit: 29dd237
git_last_commit_date: 2025-10-29 11:34:23 -0400
nebbiolo1Linux (Ubuntu 24.04.3 LTS) / x86_64  OK    OK    OK  NO, package depends on 'destiny' which is not available
Package 5/12HostnameOS / ArchINSTALLBUILDCHECKBUILD BIN
mia 1.19.0  (landing page)
Tuomas Borman
git_last_commit: ba530f5
git_last_commit_date: 2025-10-29 11:07:20 -0400
nebbiolo1Linux (Ubuntu 24.04.3 LTS) / x86_64  OK    OK    OK  NO, package depends on 'MultiAssayExperiment' which is not available
Package 6/12HostnameOS / ArchINSTALLBUILDCHECKBUILD BIN
miaDash 1.3.0  (landing page)
Giulio Benedetti
git_last_commit: 320315c
git_last_commit_date: 2025-10-29 11:35:29 -0400
nebbiolo1Linux (Ubuntu 24.04.3 LTS) / x86_64  OK    OK    OK  NO, package depends on 'iSEE' which is not available
Package 7/12HostnameOS / ArchINSTALLBUILDCHECKBUILD BIN
MPAC 1.5.0  (landing page)
Peng Liu
git_last_commit: f287ddc
git_last_commit_date: 2025-10-29 11:30:37 -0400
nebbiolo1Linux (Ubuntu 24.04.3 LTS) / x86_64  OK    OK    OK  NO, package depends on 'SummarizedExperiment' which is not available
Package 8/12HostnameOS / ArchINSTALLBUILDCHECKBUILD BIN
poem 1.3.0  (landing page)
Siyuan Luo
git_last_commit: e74dd69
git_last_commit_date: 2025-10-29 11:34:48 -0400
nebbiolo1Linux (Ubuntu 24.04.3 LTS) / x86_64  OK    OK    OK  NO, package depends on 'SpatialExperiment' which is not available
Package 9/12HostnameOS / ArchINSTALLBUILDCHECKBUILD BIN
scDblFinder 1.25.0  (landing page)
Pierre-Luc Germain
git_last_commit: dffe1fe
git_last_commit_date: 2025-10-29 10:55:23 -0400
nebbiolo1Linux (Ubuntu 24.04.3 LTS) / x86_64  OK    OK    OK  NO, package depends on 'SingleCellExperiment' which is not available
Package 10/12HostnameOS / ArchINSTALLBUILDCHECKBUILD BIN
scDiagnostics 1.5.0  (landing page)
Anthony Christidis
git_last_commit: 2f5ad14
git_last_commit_date: 2025-10-29 11:31:45 -0400
nebbiolo1Linux (Ubuntu 24.04.3 LTS) / x86_64  OK    OK    OK  NO, package depends on 'SingleCellExperiment' which is not available
Package 11/12HostnameOS / ArchINSTALLBUILDCHECKBUILD BIN
scran 1.39.0  (landing page)
Aaron Lun
git_last_commit: 5b4b8a1
git_last_commit_date: 2025-10-29 10:31:34 -0400
nebbiolo1Linux (Ubuntu 24.04.3 LTS) / x86_64  OK    OK    WARNINGS  NO, package depends on 'SingleCellExperiment' which is not available
Package 12/12HostnameOS / ArchINSTALLBUILDCHECKBUILD BIN
Voyager 1.13.0  (landing page)
Lambda Moses
git_last_commit: d3cefae
git_last_commit_date: 2025-10-29 11:19:14 -0400
nebbiolo1Linux (Ubuntu 24.04.3 LTS) / x86_64  OK    OK    WARNINGS  NO, package depends on 'SpatialFeatureExperiment' which is not available