Package: blacksheepr Version: 1.25.0 Command: /Library/Frameworks/R.framework/Resources/bin/R CMD INSTALL blacksheepr StartedAt: 2025-11-21 15:33:01 -0500 (Fri, 21 Nov 2025) EndedAt: 2025-11-21 15:33:38 -0500 (Fri, 21 Nov 2025) EllapsedTime: 37.1 seconds RetCode: 0 Status: OK