Package: blacksheepr Version: 1.25.0 Command: /Library/Frameworks/R.framework/Resources/bin/R CMD build --keep-empty-dirs --no-resave-data blacksheepr StartedAt: 2025-11-21 16:17:19 -0500 (Fri, 21 Nov 2025) EndedAt: 2025-11-21 16:19:52 -0500 (Fri, 21 Nov 2025) EllapsedTime: 153.1 seconds RetCode: 0 Status: OK PackageFile: blacksheepr_1.25.0.tar.gz PackageFileSize: 4.227 MiB