Package: blacksheepr Version: 1.25.0 Command: /Library/Frameworks/R.framework/Resources/bin/R CMD INSTALL blacksheepr StartedAt: 2025-11-20 15:17:52 -0500 (Thu, 20 Nov 2025) EndedAt: 2025-11-20 15:18:03 -0500 (Thu, 20 Nov 2025) EllapsedTime: 11.0 seconds RetCode: 0 Status: OK