Package: biocGraph Version: 1.71.0 Command: /home/biocbuild/bbs-3.22-bioc/R/bin/R CMD INSTALL biocGraph StartedAt: 2025-10-06 15:27:04 -0400 (Mon, 06 Oct 2025) EndedAt: 2025-10-06 15:27:18 -0400 (Mon, 06 Oct 2025) EllapsedTime: 13.2 seconds RetCode: 0 Status: OK