Package: bioCancer Version: 1.37.0 Command: /home/biocbuild/bbs-3.22-bioc/R/bin/R CMD INSTALL bioCancer StartedAt: 2025-10-22 15:58:20 -0400 (Wed, 22 Oct 2025) EndedAt: 2025-10-22 15:59:15 -0400 (Wed, 22 Oct 2025) EllapsedTime: 54.6 seconds RetCode: 0 Status: OK