Package: bigmelon Version: 1.35.0 Command: /home/biocbuild/bbs-3.22-bioc/R/bin/R CMD INSTALL bigmelon StartedAt: 2025-10-03 16:01:00 -0400 (Fri, 03 Oct 2025) EndedAt: 2025-10-03 16:01:51 -0400 (Fri, 03 Oct 2025) EllapsedTime: 51.1 seconds RetCode: 0 Status: OK