Package: bigmelon Version: 1.35.0 Command: /home/biocbuild/bbs-3.22-bioc/R/bin/R CMD build --keep-empty-dirs --no-resave-data --md5 bigmelon StartedAt: 2025-10-03 16:23:56 -0400 (Fri, 03 Oct 2025) EndedAt: 2025-10-03 16:25:19 -0400 (Fri, 03 Oct 2025) EllapsedTime: 83.1 seconds RetCode: 0 Status: OK PackageFile: bigmelon_1.35.0.tar.gz PackageFileSize: 903.2 KiB