Package: beadarray Version: 2.61.0 Command: /home/biocbuild/bbs-3.23-bioc/R/bin/R CMD build --keep-empty-dirs --no-resave-data beadarray StartedAt: 2025-11-21 16:24:15 -0500 (Fri, 21 Nov 2025) EndedAt: 2025-11-21 16:27:00 -0500 (Fri, 21 Nov 2025) EllapsedTime: 165.1 seconds RetCode: 0 Status: OK PackageFile: beadarray_2.61.0.tar.gz PackageFileSize: 3.743 MiB