Package: beadarray Version: 2.61.0 Command: /Library/Frameworks/R.framework/Resources/bin/R CMD INSTALL beadarray StartedAt: 2025-11-18 15:30:21 -0500 (Tue, 18 Nov 2025) EndedAt: 2025-11-18 15:30:59 -0500 (Tue, 18 Nov 2025) EllapsedTime: 38.2 seconds RetCode: 0 Status: OK