Package: beadarray Version: 2.61.0 Command: /Library/Frameworks/R.framework/Resources/bin/R CMD build --keep-empty-dirs --no-resave-data beadarray StartedAt: 2025-11-18 16:09:07 -0500 (Tue, 18 Nov 2025) EndedAt: 2025-11-18 16:09:50 -0500 (Tue, 18 Nov 2025) EllapsedTime: 42.4 seconds RetCode: 1 Status: ERROR PackageFile: None PackageFileSize: NA