Package: bcSeq Version: 1.31.0 Command: /home/biocbuild/bbs-3.22-bioc/R/bin/R CMD INSTALL bcSeq StartedAt: 2025-10-07 15:14:48 -0400 (Tue, 07 Oct 2025) EndedAt: 2025-10-07 15:15:22 -0400 (Tue, 07 Oct 2025) EllapsedTime: 33.8 seconds RetCode: 0 Status: OK