Package: bcSeq Version: 1.31.0 Command: /home/biocbuild/bbs-3.22-bioc/R/bin/R CMD build --keep-empty-dirs --no-resave-data --md5 bcSeq StartedAt: 2025-10-07 16:22:28 -0400 (Tue, 07 Oct 2025) EndedAt: 2025-10-07 16:23:21 -0400 (Tue, 07 Oct 2025) EllapsedTime: 53.0 seconds RetCode: 0 Status: OK PackageFile: bcSeq_1.31.0.tar.gz PackageFileSize: 242.1 KiB