Package: baySeq Version: 2.43.0 Command: /home/biocbuild/bbs-3.22-bioc/R/bin/R CMD INSTALL baySeq StartedAt: 2025-10-03 15:15:08 -0400 (Fri, 03 Oct 2025) EndedAt: 2025-10-03 15:15:24 -0400 (Fri, 03 Oct 2025) EllapsedTime: 16.1 seconds RetCode: 0 Status: OK