Package: baySeq Version: 2.43.0 Command: /home/biocbuild/bbs-3.22-bioc/R/bin/R CMD build --keep-empty-dirs --no-resave-data --md5 baySeq StartedAt: 2025-10-03 16:19:27 -0400 (Fri, 03 Oct 2025) EndedAt: 2025-10-03 16:25:25 -0400 (Fri, 03 Oct 2025) EllapsedTime: 358.2 seconds RetCode: 0 Status: OK PackageFile: baySeq_2.43.0.tar.gz PackageFileSize: 1.127 MiB