Package: batchelor Version: 1.25.0 Command: /home/biocbuild/bbs-3.22-bioc/R/bin/R CMD build --keep-empty-dirs --no-resave-data --md5 batchelor StartedAt: 2025-10-17 16:19:32 -0400 (Fri, 17 Oct 2025) EndedAt: 2025-10-17 16:22:47 -0400 (Fri, 17 Oct 2025) EllapsedTime: 195.1 seconds RetCode: 0 Status: OK PackageFile: batchelor_1.25.0.tar.gz PackageFileSize: 1.953 MiB